BEGIN:VCALENDAR
VERSION:2.0
PRODID:-//Calendario de eventos Ponferrada - ECPv6.5.0//NONSGML v1.0//EN
CALSCALE:GREGORIAN
METHOD:PUBLISH
X-WR-CALNAME:Calendario de eventos Ponferrada
X-ORIGINAL-URL:https://eventos.ponferrada.org
X-WR-CALDESC:Eventos para Calendario de eventos Ponferrada
REFRESH-INTERVAL;VALUE=DURATION:PT1H
X-Robots-Tag:noindex
X-PUBLISHED-TTL:PT1H
BEGIN:VTIMEZONE
TZID:Europe/Madrid
BEGIN:DAYLIGHT
TZOFFSETFROM:+0100
TZOFFSETTO:+0200
TZNAME:CEST
DTSTART:20240331T010000
END:DAYLIGHT
BEGIN:STANDARD
TZOFFSETFROM:+0200
TZOFFSETTO:+0100
TZNAME:CET
DTSTART:20241027T010000
END:STANDARD
END:VTIMEZONE
BEGIN:VEVENT
DTSTART;TZID=Europe/Madrid:20241208T183000
DTEND;TZID=Europe/Madrid:20241208T183000
DTSTAMP:20260421T223031
CREATED:20241007T112925Z
LAST-MODIFIED:20241007T112925Z
UID:10000513-1733682600-1733682600@eventos.ponferrada.org
SUMMARY:Encendido Alumbrado Navideño 2024
DESCRIPTION:El alumbrado navideño de San Andrés de Montejos con el que se dará la bienvenida a esta época tan mágica se celebrará en la Plaza del pueblo a las 18:30h.\nSe realizará un recorrido por el pueblo para observar la decoración de las casas adornadas e iluminadas por nuestros vecinos.\nFinalizado el recorrido se degustará en la Plaza del pueblo el tradicional Pepito de Ternera con bebida por el precio de 6€.\nSe acompaña el evento con actuación musical de Jonatan López.
URL:https://eventos.ponferrada.org/evento/encendido-alumbrado-navideno-2024/
LOCATION:San Andrés de Montejos\, Ponferrada\, León\, 24491\, España
CATEGORIES:Ocio
ATTACH;FMTTYPE=image/jpeg:https://eventos.ponferrada.org/wp-content/uploads/2024/10/IMG-20241004-WA0013-5703a44c655b22289409e3dc6e04aca8.jpg
ORGANIZER;CN="Junta Vecinal de San Andr%C3%A9s de Montejos":MAILTO:sanandrespedania@gmail.com
END:VEVENT
END:VCALENDAR